BEGIN:VCALENDAR
VERSION:2.0
PRODID:-//Kalender//
BEGIN:VEVENT
SUMMARY:Sauberes Zuhause
DTSTART:20260912T080000Z
DTEND:20260912T100000Z
DTSTAMP:20260426T003057Z
UID:event_ical_kalender_855
DESCRIPTION:Gemeinsam mit der Bürgerinitiative "sauberes Zuhause" sammeln
  wir alles\, was nicht auf die Straße gehört\, sondern in den Müll. Sei
  dabei\, mach mit und bring Freunde mit. Für Essen und Trinken sorgt der 
 Grill.  Uhrzeit: 10 - 12 Uhr
END:VEVENT
END:VCALENDAR
