BEGIN:VCALENDAR
VERSION:2.0
PRODID:-//Kalender//
BEGIN:VEVENT
SUMMARY:"Magdeburg putzt sich" - Frühjahrsputz
DTSTART:20220326T130000Z
DTEND:20220326T170000Z
DTSTAMP:20260423T121527Z
UID:event_ical_kalender_579
DESCRIPTION:Wir machen mit!!
END:VEVENT
END:VCALENDAR
