BEGIN:VCALENDAR
VERSION:2.0
PRODID:-//Kalender//
BEGIN:VEVENT
SUMMARY:Herbstferienprogramm
DTSTART:20151018T220000Z
DTEND:20151023T210000Z
DTSTAMP:20260422T231853Z
UID:event_ical_kalender_310
DESCRIPTION:Herbstferienprogramm
END:VEVENT
END:VCALENDAR
