BEGIN:VCALENDAR
VERSION:2.0
PRODID:-//Kalender//
BEGIN:VEVENT
SUMMARY:Babybörse
DTSTART:20151008T220000Z
DTEND:20151010T210000Z
DTSTAMP:20260422T212244Z
UID:event_ical_kalender_309
DESCRIPTION:Babybörse
END:VEVENT
END:VCALENDAR
