BEGIN:VCALENDAR
VERSION:2.0
PRODID:-//Kalender//
BEGIN:VEVENT
SUMMARY:Kegeln
DTSTART:20151006T143000Z
DTEND:20151006T160000Z
DTSTAMP:20260422T230235Z
UID:event_ical_kalender_280
DESCRIPTION:Kegeln
END:VEVENT
END:VCALENDAR
