BEGIN:VCALENDAR
VERSION:2.0
PRODID:-//Kalender//
BEGIN:VEVENT
SUMMARY:Kegeln
DTSTART:20151013T143000Z
DTEND:20151013T160000Z
DTSTAMP:20260422T230724Z
UID:event_ical_kalender_279
DESCRIPTION:Kegeln
END:VEVENT
END:VCALENDAR
