BEGIN:VCALENDAR
VERSION:2.0
PRODID:-//Kalender//
BEGIN:VEVENT
SUMMARY:Mädchengruppe 1. bis 6. Klasse
DTSTART:20151005T150000Z
DTEND:20151005T163000Z
DTSTAMP:20260422T231542Z
UID:event_ical_kalender_271
DESCRIPTION:Mädchengruppe 1. bis 6. Klasse
END:VEVENT
END:VCALENDAR
